BEGIN:VCALENDAR
VERSION:2.0
PRODID:-//Såhkie - ECPv6.15.18//NONSGML v1.0//EN
CALSCALE:GREGORIAN
METHOD:PUBLISH
X-WR-CALNAME:Såhkie
X-ORIGINAL-URL:https://sahkie.se
X-WR-CALDESC:Händelser för Såhkie
REFRESH-INTERVAL;VALUE=DURATION:PT1H
X-Robots-Tag:noindex
X-PUBLISHED-TTL:PT1H
BEGIN:VTIMEZONE
TZID:Europe/Stockholm
BEGIN:DAYLIGHT
TZOFFSETFROM:+0100
TZOFFSETTO:+0200
TZNAME:CEST
DTSTART:20250330T010000
END:DAYLIGHT
BEGIN:STANDARD
TZOFFSETFROM:+0200
TZOFFSETTO:+0100
TZNAME:CET
DTSTART:20251026T010000
END:STANDARD
BEGIN:DAYLIGHT
TZOFFSETFROM:+0100
TZOFFSETTO:+0200
TZNAME:CEST
DTSTART:20260329T010000
END:DAYLIGHT
BEGIN:STANDARD
TZOFFSETFROM:+0200
TZOFFSETTO:+0100
TZNAME:CET
DTSTART:20261025T010000
END:STANDARD
BEGIN:DAYLIGHT
TZOFFSETFROM:+0100
TZOFFSETTO:+0200
TZNAME:CEST
DTSTART:20270328T010000
END:DAYLIGHT
BEGIN:STANDARD
TZOFFSETFROM:+0200
TZOFFSETTO:+0100
TZNAME:CET
DTSTART:20271031T010000
END:STANDARD
END:VTIMEZONE
BEGIN:VEVENT
DTSTART;TZID=Europe/Stockholm:20260428T183000
DTEND;TZID=Europe/Stockholm:20260428T203000
DTSTAMP:20260425T135549
CREATED:20260328T123834Z
LAST-MODIFIED:20260328T124415Z
UID:2216-1777401000-1777408200@sahkie.se
SUMMARY:Medlemskväll: ostföredrag
DESCRIPTION:Tráhppie håller öppet för Såhkies medlemmar varje tisdag kl. 18.30 – 20.30. \nDenna kväll kommer Jan-Åke Olofsson hålla ett föredrag om ost. \nBuerestbåhtieme!
URL:https://sahkie.se/event/medlemskvall-ostforedrag/
LOCATION:Tráhppie\, Helena Elisabeths väg 4\, Umeå\, 903 42\, Sweden
CATEGORIES:Endast medlemmar
END:VEVENT
BEGIN:VEVENT
DTSTART;TZID=Europe/Stockholm:20260505T183000
DTEND;TZID=Europe/Stockholm:20260505T203000
DTSTAMP:20260425T135549
CREATED:20260328T124040Z
LAST-MODIFIED:20260328T124411Z
UID:2220-1778005800-1778013000@sahkie.se
SUMMARY:Medlemskväll: Quiz
DESCRIPTION:Tráhppie håller öppet för Såhkies medlemmar varje tisdag kl. 18.30 – 20.30. \nDenna kväll blir det quiz! \nBuerestbåhtieme!
URL:https://sahkie.se/event/medlemskvall-quiz-5-maj/
LOCATION:Tráhppie\, Helena Elisabeths väg 4\, Umeå\, 903 42\, Sweden
CATEGORIES:Endast medlemmar
END:VEVENT
BEGIN:VEVENT
DTSTART;TZID=Europe/Stockholm:20260512T183000
DTEND;TZID=Europe/Stockholm:20260512T203000
DTSTAMP:20260425T135549
CREATED:20260328T124323Z
LAST-MODIFIED:20260328T124406Z
UID:2222-1778610600-1778617800@sahkie.se
SUMMARY:Medlemskväll: Tälja & Grilla
DESCRIPTION:Tráhppie håller öppet för Såhkies medlemmar varje tisdag kl. 18.30 – 20.30. \nDetta blir den sista medlemskvällen innan sommaren. \nBuerestbåhtieme!
URL:https://sahkie.se/event/medlemskvall-talja-grilla/
LOCATION:Tráhppie\, Helena Elisabeths väg 4\, Umeå\, 903 42\, Sweden
CATEGORIES:Endast medlemmar
END:VEVENT
END:VCALENDAR